BEGIN:VCALENDAR
VERSION:2.0
PRODID:-//Woodchix - ECPv6.15.20//NONSGML v1.0//EN
CALSCALE:GREGORIAN
METHOD:PUBLISH
X-WR-CALNAME:Woodchix
X-ORIGINAL-URL:https://woodchix.au
X-WR-CALDESC:Events for Woodchix
REFRESH-INTERVAL;VALUE=DURATION:PT1H
X-Robots-Tag:noindex
X-PUBLISHED-TTL:PT1H
BEGIN:VTIMEZONE
TZID:Australia/Sydney
BEGIN:STANDARD
TZOFFSETFROM:+1100
TZOFFSETTO:+1000
TZNAME:AEST
DTSTART:20250405T160000
END:STANDARD
BEGIN:DAYLIGHT
TZOFFSETFROM:+1000
TZOFFSETTO:+1100
TZNAME:AEDT
DTSTART:20251004T160000
END:DAYLIGHT
BEGIN:STANDARD
TZOFFSETFROM:+1100
TZOFFSETTO:+1000
TZNAME:AEST
DTSTART:20260404T160000
END:STANDARD
BEGIN:DAYLIGHT
TZOFFSETFROM:+1000
TZOFFSETTO:+1100
TZNAME:AEDT
DTSTART:20261003T160000
END:DAYLIGHT
BEGIN:STANDARD
TZOFFSETFROM:+1100
TZOFFSETTO:+1000
TZNAME:AEST
DTSTART:20270403T160000
END:STANDARD
BEGIN:DAYLIGHT
TZOFFSETFROM:+1000
TZOFFSETTO:+1100
TZNAME:AEDT
DTSTART:20271002T160000
END:DAYLIGHT
END:VTIMEZONE
BEGIN:VEVENT
DTSTART;TZID=Australia/Sydney:20260420T100000
DTEND;TZID=Australia/Sydney:20260615T120000
DTSTAMP:20260422T215136
CREATED:20260309T013853Z
LAST-MODIFIED:20260319T074318Z
UID:10000184-1776679200-1781524800@woodchix.au
SUMMARY:Home School Classes (Intermediate / Advanced) – Term 2 2026 (Mondays 10:00 am – 12:00 pm)
DESCRIPTION:Workshop Information \n\nTerm 2 2026\n20 April – 15 June\nTeacher: Anne\nMondays\n10:00 am – 12:00 pm\n\nDates of Classes:20/4\, 27/4\, 4/5\, 18/5\, 25/5\, 1/6\, 15/6 (7 workshops for Term 2)
URL:https://woodchix.au/workshop/home-school-classes-intermediate-advanced-term-2-2026-mondays-1000-am-1200-pm/
LOCATION:Woodchix Venue\, 95 Great Western Hwy\, Emu Plains\, NSW\, 2745\, Australia
CATEGORIES:Students
ATTACH;FMTTYPE=image/jpeg:https://woodchix.au/wp-content/uploads/2025/05/Woodchix-webtiles_HS.jpg
ORGANIZER;CN="Woodchix Organisation Information":MAILTO:info@woodchix.au
END:VEVENT
BEGIN:VEVENT
DTSTART;TZID=Australia/Sydney:20260420T133000
DTEND;TZID=Australia/Sydney:20260615T143000
DTSTAMP:20260422T215136
CREATED:20260309T013854Z
LAST-MODIFIED:20260319T074317Z
UID:10000191-1776691800-1781533800@woodchix.au
SUMMARY:Home School Classes (Intermediate / Advanced) – Term 2 2026 (Mondays 1:30 pm – 2:30 pm)
DESCRIPTION:Workshop Information \n\nTerm 2 2026\n20 April – 15 June\nTeacher: Anne\nMondays\n1:30 pm – 2:30 pm\n\nDates of Classes:20/4\, 27/4\, 4/5\, 18/5\, 25/5\, 1/6\, 15/6 (7 workshops for Term 2)
URL:https://woodchix.au/workshop/home-school-classes-intermediate-advanced-term-2-2026-mondays-130-pm-230-pm/
LOCATION:Woodchix Venue\, 95 Great Western Hwy\, Emu Plains\, NSW\, 2745\, Australia
CATEGORIES:Students
ATTACH;FMTTYPE=image/jpeg:https://woodchix.au/wp-content/uploads/2025/05/Woodchix-webtiles_HS.jpg
ORGANIZER;CN="Woodchix Organisation Information":MAILTO:info@woodchix.au
END:VEVENT
BEGIN:VEVENT
DTSTART;TZID=Australia/Sydney:20260421T090000
DTEND;TZID=Australia/Sydney:20260616T110000
DTSTAMP:20260422T215136
CREATED:20260309T013854Z
LAST-MODIFIED:20260319T074317Z
UID:10000192-1776762000-1781607600@woodchix.au
SUMMARY:Home School Classes (Beginners) – Term 2 2026 (Tuesdays 9:00 am – 11:00 am)
DESCRIPTION:Workshop Information \nTerm 2 2026\n21 April – 16 June \nTuesdays\n9:00 am – 11:00 am \nTeacher\nTerry \nDates of Classes:\n21/4\, 28/4\, 5/5\, 19/5\, 26/5\, 2/6\, 16/6 (7 workshops for Term 2)
URL:https://woodchix.au/workshop/home-school-classes-beginners-term-2-2026-tuesdays-900-am-1100-am/
LOCATION:Woodchix Venue\, 95 Great Western Hwy\, Emu Plains\, NSW\, 2745\, Australia
CATEGORIES:Students
ATTACH;FMTTYPE=image/jpeg:https://woodchix.au/wp-content/uploads/2025/05/Woodchix-webtiles_HS.jpg
ORGANIZER;CN="Woodchix Organisation Information":MAILTO:info@woodchix.au
END:VEVENT
BEGIN:VEVENT
DTSTART;TZID=Australia/Sydney:20260421T113000
DTEND;TZID=Australia/Sydney:20260616T133000
DTSTAMP:20260422T215136
CREATED:20260309T013855Z
LAST-MODIFIED:20260319T074317Z
UID:10000193-1776771000-1781616600@woodchix.au
SUMMARY:Home School Classes (Beginners) – Term 2 2026 (Tuesdays 11:30 am – 1:30 pm)
DESCRIPTION:Workshop Information \nTerm 2 202621 April – 16 June \nTuesdays11:30 am – 1:30 pm \nTeacherTerry \nDates of Classes:21/4\, 28/4\, 5/5\, 19/5\, 26/5\, 2/6\, 16/6 (7 workshops for Term 2)
URL:https://woodchix.au/workshop/home-school-classes-beginners-term-2-2026-tuesdays-1130-am-130-pm/
LOCATION:Woodchix Venue\, 95 Great Western Hwy\, Emu Plains\, NSW\, 2745\, Australia
CATEGORIES:Students
ATTACH;FMTTYPE=image/jpeg:https://woodchix.au/wp-content/uploads/2025/05/Woodchix-webtiles_HS.jpg
ORGANIZER;CN="Woodchix Organisation Information":MAILTO:info@woodchix.au
END:VEVENT
BEGIN:VEVENT
DTSTART;TZID=Australia/Sydney:20260425T090000
DTEND;TZID=Australia/Sydney:20260425T120000
DTSTAMP:20260422T215136
CREATED:20260128T002757Z
LAST-MODIFIED:20260319T074317Z
UID:10000171-1777107600-1777118400@woodchix.au
SUMMARY:Richard Cummins Solicitor at Woodchix hosted with Karina - 25/04/2026
DESCRIPTION:Workshop – Saturday 25th April 2026 (25/04/2026) \nOur Legal service workshop\, Richard Cummins Solicitor at Woodchix\,  includes:\n• Legal Advice\n• Legal Support\n• Assistance with drafting documents\n• Assistance filling out Legal Aid applications \nIf we cannot help you\, we will guide you to where you can get help. \nThis free legal consultation workshop runs every last Saturday of each month at Woodchix from 9am to 12pm.
URL:https://woodchix.au/workshop/richard-cummins-solicitor-at-woodchix-hosted-with-karina-25-04-2026/
LOCATION:Woodchix Venue\, 95 Great Western Hwy\, Emu Plains\, NSW\, 2745\, Australia
CATEGORIES:Free
ATTACH;FMTTYPE=image/png:https://woodchix.au/wp-content/uploads/RCS-Legal-Service-stacked-logo-sq-2.png
ORGANIZER;CN="Woodchix Organisation Information":MAILTO:info@woodchix.au
END:VEVENT
BEGIN:VEVENT
DTSTART;TZID=Australia/Sydney:20260530T090000
DTEND;TZID=Australia/Sydney:20260530T120000
DTSTAMP:20260422T215136
CREATED:20260128T002801Z
LAST-MODIFIED:20260319T074317Z
UID:10000110-1780131600-1780142400@woodchix.au
SUMMARY:Richard Cummins Solicitor at Woodchix hosted with Karina - 30/05/2026
DESCRIPTION:Workshop – Saturday 30th May 2026 (30/05/2026) \nOur Legal service workshop\, Richard Cummins Solicitor at Woodchix\,  includes:\n• Legal Advice\n• Legal Support\n• Assistance with drafting documents\n• Assistance filling out Legal Aid applications \nIf we cannot help you\, we will guide you to where you can get help. \nThis free legal consultation workshop runs every last Saturday of each month at Woodchix from 9am to 12pm.
URL:https://woodchix.au/workshop/richard-cummins-solicitor-at-woodchix-hosted-with-karina-30-05-2026/
LOCATION:Woodchix Venue\, 95 Great Western Hwy\, Emu Plains\, NSW\, 2745\, Australia
CATEGORIES:Free
ATTACH;FMTTYPE=image/png:https://woodchix.au/wp-content/uploads/RCS-Legal-Service-stacked-logo-sq-2.png
ORGANIZER;CN="Woodchix Organisation Information":MAILTO:info@woodchix.au
END:VEVENT
BEGIN:VEVENT
DTSTART;TZID=Australia/Sydney:20260627T090000
DTEND;TZID=Australia/Sydney:20260627T120000
DTSTAMP:20260422T215136
CREATED:20260128T002805Z
LAST-MODIFIED:20260319T074317Z
UID:10000111-1782550800-1782561600@woodchix.au
SUMMARY:Richard Cummins Solicitor at Woodchix hosted with Karina - 27/06/2026
DESCRIPTION:Workshop – Saturday 27th June 2026 (27/06/2026) \nOur Legal service workshop\, Richard Cummins Solicitor at Woodchix\,  includes:\n• Legal Advice\n• Legal Support\n• Assistance with drafting documents\n• Assistance filling out Legal Aid applications \nIf we cannot help you\, we will guide you to where you can get help. \nThis free legal consultation workshop runs every last Saturday of each month at Woodchix from 9am to 12pm.
URL:https://woodchix.au/workshop/richard-cummins-solicitor-at-woodchix-hosted-with-karina-27-06-2026/
LOCATION:Woodchix Venue\, 95 Great Western Hwy\, Emu Plains\, NSW\, 2745\, Australia
CATEGORIES:Free
ATTACH;FMTTYPE=image/png:https://woodchix.au/wp-content/uploads/RCS-Legal-Service-stacked-logo-sq-2.png
ORGANIZER;CN="Woodchix Organisation Information":MAILTO:info@woodchix.au
END:VEVENT
BEGIN:VEVENT
DTSTART;TZID=Australia/Sydney:20260725T090000
DTEND;TZID=Australia/Sydney:20260725T120000
DTSTAMP:20260422T215136
CREATED:20260128T002810Z
LAST-MODIFIED:20260319T074317Z
UID:10000112-1784970000-1784980800@woodchix.au
SUMMARY:Richard Cummins Solicitor at Woodchix hosted with Karina - 25/07/2026
DESCRIPTION:Workshop – Saturday 25th July2026 (25/07/2026) \nOur Legal service workshop\, Richard Cummins Solicitor at Woodchix\,  includes:\n• Legal Advice\n• Legal Support\n• Assistance with drafting documents\n• Assistance filling out Legal Aid applications \nIf we cannot help you\, we will guide you to where you can get help. \nThis free legal consultation workshop runs every last Saturday of each month at Woodchix from 9am to 12pm.
URL:https://woodchix.au/workshop/richard-cummins-solicitor-at-woodchix-hosted-with-karina-25-07-2026/
LOCATION:Woodchix Venue\, 95 Great Western Hwy\, Emu Plains\, NSW\, 2745\, Australia
CATEGORIES:Free
ATTACH;FMTTYPE=image/png:https://woodchix.au/wp-content/uploads/RCS-Legal-Service-stacked-logo-sq-2.png
ORGANIZER;CN="Woodchix Organisation Information":MAILTO:info@woodchix.au
END:VEVENT
BEGIN:VEVENT
DTSTART;TZID=Australia/Sydney:20260829T090000
DTEND;TZID=Australia/Sydney:20260829T120000
DTSTAMP:20260422T215136
CREATED:20260128T002813Z
LAST-MODIFIED:20260319T074317Z
UID:10000113-1787994000-1788004800@woodchix.au
SUMMARY:Richard Cummins Solicitor at Woodchix hosted with Karina - 29/08/2026
DESCRIPTION:Workshop – Saturday 29th August 2026 (29/08/2026) \nOur Legal service workshop\, Richard Cummins Solicitor at Woodchix\,  includes:\n• Legal Advice\n• Legal Support\n• Assistance with drafting documents\n• Assistance filling out Legal Aid applications \nIf we cannot help you\, we will guide you to where you can get help. \nThis free legal consultation workshop runs every last Saturday of each month at Woodchix from 9am to 12pm.
URL:https://woodchix.au/workshop/richard-cummins-solicitor-at-woodchix-hosted-with-karina-29-08-2026/
LOCATION:Woodchix Venue\, 95 Great Western Hwy\, Emu Plains\, NSW\, 2745\, Australia
CATEGORIES:Free
ATTACH;FMTTYPE=image/png:https://woodchix.au/wp-content/uploads/RCS-Legal-Service-stacked-logo-sq-2.png
ORGANIZER;CN="Woodchix Organisation Information":MAILTO:info@woodchix.au
END:VEVENT
BEGIN:VEVENT
DTSTART;TZID=Australia/Sydney:20260926T090000
DTEND;TZID=Australia/Sydney:20260926T120000
DTSTAMP:20260422T215136
CREATED:20260128T002816Z
LAST-MODIFIED:20260319T074317Z
UID:10000114-1790413200-1790424000@woodchix.au
SUMMARY:Richard Cummins Solicitor at Woodchix hosted with Karina - 26/09/2026
DESCRIPTION:Workshop – Saturday 26th Sepetember 2026 (26/09/2026) \nOur Legal service workshop\, Richard Cummins Solicitor at Woodchix\,  includes:\n• Legal Advice\n• Legal Support\n• Assistance with drafting documents\n• Assistance filling out Legal Aid applications \nIf we cannot help you\, we will guide you to where you can get help. \nThis free legal consultation workshop runs every last Saturday of each month at Woodchix from 9am to 12pm.
URL:https://woodchix.au/workshop/richard-cummins-solicitor-at-woodchix-hosted-with-karina-26-09-2026/
LOCATION:Woodchix Venue\, 95 Great Western Hwy\, Emu Plains\, NSW\, 2745\, Australia
CATEGORIES:Free
ATTACH;FMTTYPE=image/png:https://woodchix.au/wp-content/uploads/RCS-Legal-Service-stacked-logo-sq-2.png
ORGANIZER;CN="Woodchix Organisation Information":MAILTO:info@woodchix.au
END:VEVENT
BEGIN:VEVENT
DTSTART;TZID=Australia/Sydney:20261031T090000
DTEND;TZID=Australia/Sydney:20261031T120000
DTSTAMP:20260422T215136
CREATED:20260128T002820Z
LAST-MODIFIED:20260319T074316Z
UID:10000115-1793437200-1793448000@woodchix.au
SUMMARY:Richard Cummins Solicitor at Woodchix hosted with Karina - 31/10/2026
DESCRIPTION:Workshop – Saturday 31st October 2026 (31/10/2026) \nOur Legal service workshop\, Richard Cummins Solicitor at Woodchix\,  includes:\n• Legal Advice\n• Legal Support\n• Assistance with drafting documents\n• Assistance filling out Legal Aid applications \nIf we cannot help you\, we will guide you to where you can get help. \nThis free legal consultation workshop runs every last Saturday of each month at Woodchix from 9am to 12pm.
URL:https://woodchix.au/workshop/richard-cummins-solicitor-at-woodchix-hosted-with-karina-31-10-2026/
LOCATION:Woodchix Venue\, 95 Great Western Hwy\, Emu Plains\, NSW\, 2745\, Australia
CATEGORIES:Free
ATTACH;FMTTYPE=image/png:https://woodchix.au/wp-content/uploads/RCS-Legal-Service-stacked-logo-sq-2.png
ORGANIZER;CN="Woodchix Organisation Information":MAILTO:info@woodchix.au
END:VEVENT
BEGIN:VEVENT
DTSTART;TZID=Australia/Sydney:20261128T090000
DTEND;TZID=Australia/Sydney:20261128T120000
DTSTAMP:20260422T215136
CREATED:20260128T002824Z
LAST-MODIFIED:20260319T074316Z
UID:10000116-1795856400-1795867200@woodchix.au
SUMMARY:Richard Cummins Solicitor at Woodchix hosted with Karina - 28/11/2026
DESCRIPTION:Workshop – Saturday 28th November 2026 (28/11/2026) \nOur Legal service workshop\, Richard Cummins Solicitor at Woodchix\,  includes:\n• Legal Advice\n• Legal Support\n• Assistance with drafting documents\n• Assistance filling out Legal Aid applications \nIf we cannot help you\, we will guide you to where you can get help. \nThis free legal consultation workshop runs every last Saturday of each month at Woodchix from 9am to 12pm.
URL:https://woodchix.au/workshop/richard-cummins-solicitor-at-woodchix-hosted-with-karina-28-11-2026/
LOCATION:Woodchix Venue\, 95 Great Western Hwy\, Emu Plains\, NSW\, 2745\, Australia
CATEGORIES:Free
ATTACH;FMTTYPE=image/png:https://woodchix.au/wp-content/uploads/RCS-Legal-Service-stacked-logo-sq-2.png
ORGANIZER;CN="Woodchix Organisation Information":MAILTO:info@woodchix.au
END:VEVENT
END:VCALENDAR